BEGIN:VCALENDAR
VERSION:2.0
PRODID:-//Håndlæsning ved Dodo Lindemann - ECPv6.10.2//NONSGML v1.0//EN
CALSCALE:GREGORIAN
METHOD:PUBLISH
X-WR-CALNAME:Håndlæsning ved Dodo Lindemann
X-ORIGINAL-URL:http://dodokiro.dk
X-WR-CALDESC:Begivenheder for Håndlæsning ved Dodo Lindemann
REFRESH-INTERVAL;VALUE=DURATION:PT1H
X-Robots-Tag:noindex
X-PUBLISHED-TTL:PT1H
BEGIN:VTIMEZONE
TZID:Europe/Helsinki
BEGIN:DAYLIGHT
TZOFFSETFROM:+0200
TZOFFSETTO:+0300
TZNAME:EEST
DTSTART:20190331T010000
END:DAYLIGHT
BEGIN:STANDARD
TZOFFSETFROM:+0300
TZOFFSETTO:+0200
TZNAME:EET
DTSTART:20191027T010000
END:STANDARD
END:VTIMEZONE
BEGIN:VEVENT
DTSTART;TZID=Europe/Helsinki:20190812T080000
DTEND;TZID=Europe/Helsinki:20190815T170000
DTSTAMP:20260422T023500
CREATED:20190611T055324Z
LAST-MODIFIED:20190616T172122Z
UID:2403-1565596800-1565888400@dodokiro.dk
SUMMARY:Håndlæsning/vejledning i Emdrup
DESCRIPTION:Kontakt : Hanne Nohr Sommer\n\n\n\n+45 21 91 22 95‬ \n\n\n\nhttps://www.facebook.com/groups/267885919998523/
URL:http://dodokiro.dk/event/haandlaesninger-i-koebenhavns-om-raadet-emdrup/
CATEGORIES:Håndlæsninger ude af huset
END:VEVENT
END:VCALENDAR