BEGIN:VCALENDAR
VERSION:2.0
PRODID:-//Håndlæsning ved Dodo Lindemann - ECPv6.10.2//NONSGML v1.0//EN
CALSCALE:GREGORIAN
METHOD:PUBLISH
X-ORIGINAL-URL:http://dodokiro.dk
X-WR-CALDESC:Begivenheder for Håndlæsning ved Dodo Lindemann
REFRESH-INTERVAL;VALUE=DURATION:PT1H
X-Robots-Tag:noindex
X-PUBLISHED-TTL:PT1H
BEGIN:VTIMEZONE
TZID:Europe/Helsinki
BEGIN:DAYLIGHT
TZOFFSETFROM:+0200
TZOFFSETTO:+0300
TZNAME:EEST
DTSTART:20190331T010000
END:DAYLIGHT
BEGIN:STANDARD
TZOFFSETFROM:+0300
TZOFFSETTO:+0200
TZNAME:EET
DTSTART:20191027T010000
END:STANDARD
END:VTIMEZONE
BEGIN:VEVENT
DTSTART;TZID=Europe/Helsinki:20190924T190000
DTEND;TZID=Europe/Helsinki:20190924T211500
DTSTAMP:20260423T234553
CREATED:20190916T100910Z
LAST-MODIFIED:20190916T102012Z
UID:2813-1569351600-1569359700@dodokiro.dk
SUMMARY:Jeg holder foredrag i Herning med  overskriften - Når livet går os imod.
DESCRIPTION:Invitation til en spændende aften med håndlæser Dodo Lindemann\n\n\n\naf Lise Thomsen | aug 12\, 2019 | Events \n\n\n\n\n\n\n\nNår livet går os imod.\n\n\n\nMed denne overskrift vil Dodo fortælle om hvad vi stiller op\, når vi rammes af sorg og tab. Hvordan kan vi finde vej og finde trøst? Kan hænderne og en håndlæsning være et redskab? Kan de tegn og det man kan se i hænderne virke som små lygter\, når vi skal finde vej\, hvor der er mørkt? \n\n\n\n”Det mener jeg”\, siger Dodo. ”De anvisninger vi har brug for ligger hos os selv og dermed i vores hænder. At kunne tyde hændernes tegn bevirker\, at vi kan tyde de rettesnore\, de vejvisere\, vi kan gå efter\, når livet synes at gå os imod.” \n\n\n\nSiden 1989 har Dodo Lindemann arbejdet med tydning af hændernes tegn og linjer.Dodo har sin egen håndlæserskole og udkom december 2018 med en bog om emnet. Dodo vil i foredraget trække på sin store viden og erfaring. \n\n\n\nDerudover vil Dodo tyde blindtegninger. Tydningerne foregår i det åbne\, så alle kan få udbytte af det – og måske lære lidt. Blindtegninger er et fantastisk medie når det drejer sig om at se sine resurser og belastninger her og nu. På den måde kan vi blive støttet i vores handlinger. \n\n\n\nEn aften hvor alvor og humor går hånd i hånd. \n\n\n\nEr du interesseret i at få din blindtegning tydet\, skal du komme 15 min før foredragetstarter. \n\n\n\nDer vil være mulighed for at købe Dodos bog og få den signeret med en personlig hilsen \n\n\n\nPraktisk information: \n\n\n\nHvornår: 24. september kl. 19.00-21.15 (ønsker du blindtegning skal du komme kl.18.45)Hvor: MEA-COR  – Smallegade 10\, 7400 HerningPris: 150\,-Forfriskning: Inkluderet i prisenBetaling: Ved fremmøde. Kontant eller visa/dankort eller mobilepay  Vi ser frem til en rigtig god aften med et spændende foredrag. Vi glæder os til at se jer!
URL:http://dodokiro.dk/event/2813/
CATEGORIES:Foredrag,Foredrag og workshops
END:VEVENT
END:VCALENDAR