BEGIN:VCALENDAR
VERSION:2.0
PRODID:-//Håndlæsning ved Dodo Lindemann - ECPv6.10.2//NONSGML v1.0//EN
CALSCALE:GREGORIAN
METHOD:PUBLISH
X-WR-CALNAME:Håndlæsning ved Dodo Lindemann
X-ORIGINAL-URL:http://dodokiro.dk
X-WR-CALDESC:Begivenheder for Håndlæsning ved Dodo Lindemann
REFRESH-INTERVAL;VALUE=DURATION:PT1H
X-Robots-Tag:noindex
X-PUBLISHED-TTL:PT1H
BEGIN:VTIMEZONE
TZID:Europe/Helsinki
BEGIN:DAYLIGHT
TZOFFSETFROM:+0200
TZOFFSETTO:+0300
TZNAME:EEST
DTSTART:20210328T010000
END:DAYLIGHT
BEGIN:STANDARD
TZOFFSETFROM:+0300
TZOFFSETTO:+0200
TZNAME:EET
DTSTART:20211031T010000
END:STANDARD
END:VTIMEZONE
BEGIN:VEVENT
DTSTART;TZID=Europe/Helsinki:20210619T080000
DTEND;TZID=Europe/Helsinki:20210620T170000
DTSTAMP:20260420T180133
CREATED:20210419T052546Z
LAST-MODIFIED:20210419T052924Z
UID:4275-1624089600-1624208400@dodokiro.dk
SUMMARY:Weekendkurset: "Lær at tyde hænderne ud fra fotos".
DESCRIPTION:Kurset henvender sig til alle med interesse i udvikling og selvforståelse.Vi skal gennemgå et sæt hænder\, ud fra nogle fotos du selv medbringer. Det skal være en person\, du kender godt\, og som har givet dig tilladelse til at læse i hans eller hendes hænder. Fotos skal være tydelige\, så de er til at se mest muligt ud af. Du skal medbringe computer/IPad/ eller en smartphone – gerne flere enheder\, da vi skal arbejde med at se på billederne og deres kvalitet. Du vil få en udførlig vejledning dels i hvilke billeder\, der skal bruges og dels\, hvilke områder du skal slå ned på i din læsning. Dette er også en spændende måde at arbejde med håndlæsning på da det giver mulighed for at arbejde som håndlæser over distance og i tider\, hvor det ikke anbefales at sidde tæt med andre mennesker\, som i tilfældet med Covid19. \n\n\n\nDet er en forudsætning at du har bogen ” Hændernes Univers”\, den kan købes gennem forlaget\, boghandelen\, enkelte helsekostforretninger\, alternative butikker\, på nettet og hos mig. \n\n\n\nMedbring gerne en lup\, blyanter (gerne bløde) og evt. tynde tusser eller farveblyanterog husk madpakke\, der er gratis kaffe/the. Tilmelding på nedenstående link.
URL:http://dodokiro.dk/event/weekendkurset-laer-at-tyde-haenderne-ud-fra-fotos/
LOCATION:DOF Yogaskolen i Nyborg Vestervoldgade 4  5800 Nybor
ORGANIZER;CN="Underviser Dodo Lindemann":MAILTO:dodo@dodokiro.dk
END:VEVENT
END:VCALENDAR