BEGIN:VCALENDAR
VERSION:2.0
PRODID:-//Håndlæsning ved Dodo Lindemann - ECPv6.10.2//NONSGML v1.0//EN
CALSCALE:GREGORIAN
METHOD:PUBLISH
X-WR-CALNAME:Håndlæsning ved Dodo Lindemann
X-ORIGINAL-URL:http://dodokiro.dk
X-WR-CALDESC:Begivenheder for Håndlæsning ved Dodo Lindemann
REFRESH-INTERVAL;VALUE=DURATION:PT1H
X-Robots-Tag:noindex
X-PUBLISHED-TTL:PT1H
BEGIN:VTIMEZONE
TZID:Europe/Helsinki
BEGIN:DAYLIGHT
TZOFFSETFROM:+0200
TZOFFSETTO:+0300
TZNAME:EEST
DTSTART:20220327T010000
END:DAYLIGHT
BEGIN:STANDARD
TZOFFSETFROM:+0300
TZOFFSETTO:+0200
TZNAME:EET
DTSTART:20221030T010000
END:STANDARD
END:VTIMEZONE
BEGIN:VEVENT
DTSTART;TZID=Europe/Helsinki:20220827T093000
DTEND;TZID=Europe/Helsinki:20220827T160000
DTSTAMP:20260421T165714
CREATED:20220803T051228Z
LAST-MODIFIED:20220803T055839Z
UID:4590-1661592600-1661616000@dodokiro.dk
SUMMARY:Workshoppen ”Hændernes visdom”\, en introduktion til håndlæsning og blindtegningstydning.
DESCRIPTION:Der er en\, der engang har sagt\, at hænderne er sjælens spejl. Hvordan det lige hænger sammen\, vil Dodo tale om denne dag. Dodo vil videregive noget af det\, hun har lært gennem 30 år som håndlæser.    \n\n\n\nWorkshoppen har fokus på\, hvad vi kan lære om os selv ved blot at se på vores hænder. Endvidere vil Dodo vise\, hvordan vi med få streger i en blindtegning kan få et godt billede på\, hvor vi er her og nu. \n\n\n\n Dagen er tilrettelagt således\, at du kan bruge den viden og indsigt du får i din hverdag. Vi skal lave blindetegninger og enkle tydninger.Vi skal underholdes og vi skal arbejde \n\n\n\n Alt foregår i en uhøjtidelig og afslappet atmosfære \n\n\n\nMedbring gerne en lup\, blyanter (også bløde) og evt. tynde tusser eller farveblyanterog husk madpakke\, der er gratis kaffe/the.
URL:http://dodokiro.dk/event/workshoppen-haendernes-visdom-en-introduktion-til-haandlaesning-og-blindtegningstydning-2/
LOCATION:DOF Yogaskolen i Nyborg Vestervoldgade 4 5800 Nyborg\, Vester voldgade 4\, Nyborg
CATEGORIES:Foredrag og workshops,Uddannelse og kurser
END:VEVENT
BEGIN:VEVENT
DTSTART;TZID=Europe/Helsinki:20220827T093000
DTEND;TZID=Europe/Helsinki:20220827T170000
DTSTAMP:20260421T165714
CREATED:20220803T050655Z
LAST-MODIFIED:20220803T050656Z
UID:4588-1661592600-1661619600@dodokiro.dk
SUMMARY:
DESCRIPTION:
URL:http://dodokiro.dk/event/4588/
END:VEVENT
END:VCALENDAR