BEGIN:VCALENDAR
VERSION:2.0
PRODID:-//Håndlæsning ved Dodo Lindemann - ECPv6.10.2//NONSGML v1.0//EN
CALSCALE:GREGORIAN
METHOD:PUBLISH
X-ORIGINAL-URL:http://dodokiro.dk
X-WR-CALDESC:Begivenheder for Håndlæsning ved Dodo Lindemann
REFRESH-INTERVAL;VALUE=DURATION:PT1H
X-Robots-Tag:noindex
X-PUBLISHED-TTL:PT1H
BEGIN:VTIMEZONE
TZID:Europe/Helsinki
BEGIN:DAYLIGHT
TZOFFSETFROM:+0200
TZOFFSETTO:+0300
TZNAME:EEST
DTSTART:20240331T010000
END:DAYLIGHT
BEGIN:STANDARD
TZOFFSETFROM:+0300
TZOFFSETTO:+0200
TZNAME:EET
DTSTART:20241027T010000
END:STANDARD
END:VTIMEZONE
BEGIN:VEVENT
DTSTART;TZID=Europe/Helsinki:20240819T080000
DTEND;TZID=Europe/Helsinki:20240823T170000
DTSTAMP:20260421T035813
CREATED:20240430T095100Z
LAST-MODIFIED:20240730T111301Z
UID:5126-1724054400-1724432400@dodokiro.dk
SUMMARY:Håndlæsning i Emdrup
DESCRIPTION:Kontakt : Hanne Nohr Sommer\n\n\n\n+45 21 91 22 95‬https://www.facebook.com/events/952732949645230/?ref=newsfeed
URL:http://dodokiro.dk/event/haandlaesning-i-emdrup-6/
END:VEVENT
BEGIN:VEVENT
DTSTART;TZID=Europe/Helsinki:20240821T080000
DTEND;TZID=Europe/Helsinki:20240923T170000
DTSTAMP:20260421T035813
CREATED:20240821T161531Z
LAST-MODIFIED:20240903T104909Z
UID:5191-1724227200-1727110800@dodokiro.dk
SUMMARY:Optaget
DESCRIPTION:
URL:http://dodokiro.dk/event/optaget-283/
END:VEVENT
END:VCALENDAR