BEGIN:VCALENDAR
VERSION:2.0
PRODID:-//Håndlæsning ved Dodo Lindemann - ECPv6.10.2//NONSGML v1.0//EN
CALSCALE:GREGORIAN
METHOD:PUBLISH
X-ORIGINAL-URL:http://dodokiro.dk
X-WR-CALDESC:Begivenheder for Håndlæsning ved Dodo Lindemann
REFRESH-INTERVAL;VALUE=DURATION:PT1H
X-Robots-Tag:noindex
X-PUBLISHED-TTL:PT1H
BEGIN:VTIMEZONE
TZID:Europe/Helsinki
BEGIN:DAYLIGHT
TZOFFSETFROM:+0200
TZOFFSETTO:+0300
TZNAME:EEST
DTSTART:20250330T010000
END:DAYLIGHT
BEGIN:STANDARD
TZOFFSETFROM:+0300
TZOFFSETTO:+0200
TZNAME:EET
DTSTART:20251026T010000
END:STANDARD
END:VTIMEZONE
BEGIN:VEVENT
DTSTART;TZID=Europe/Helsinki:20250501T080000
DTEND;TZID=Europe/Helsinki:20250513T170000
DTSTAMP:20260420T224636
CREATED:20250512T122551Z
LAST-MODIFIED:20250512T122554Z
UID:5325-1746086400-1747155600@dodokiro.dk
SUMMARY:Optaget
DESCRIPTION:
URL:http://dodokiro.dk/event/optaget-315/
END:VEVENT
BEGIN:VEVENT
DTSTART;TZID=Europe/Helsinki:20250510T080000
DTEND;TZID=Europe/Helsinki:20250511T170000
DTSTAMP:20260420T224636
CREATED:20250208T150020Z
LAST-MODIFIED:20250208T150021Z
UID:5277-1746864000-1746982800@dodokiro.dk
SUMMARY:Messe i Svendborg
DESCRIPTION:
URL:http://dodokiro.dk/event/messe-i-svendborg/
END:VEVENT
BEGIN:VEVENT
DTSTART;TZID=Europe/Helsinki:20250510T080000
DTEND;TZID=Europe/Helsinki:20250511T170000
DTSTAMP:20260420T224636
CREATED:20250316T095733Z
LAST-MODIFIED:20250316T095736Z
UID:5293-1746864000-1746982800@dodokiro.dk
SUMMARY:Optaget
DESCRIPTION:
URL:http://dodokiro.dk/event/optaget-303/
END:VEVENT
END:VCALENDAR