BEGIN:VCALENDAR
VERSION:2.0
PRODID:-//Håndlæsning ved Dodo Lindemann - ECPv6.10.2//NONSGML v1.0//EN
CALSCALE:GREGORIAN
METHOD:PUBLISH
X-WR-CALNAME:Håndlæsning ved Dodo Lindemann
X-ORIGINAL-URL:http://dodokiro.dk
X-WR-CALDESC:Begivenheder for Håndlæsning ved Dodo Lindemann
REFRESH-INTERVAL;VALUE=DURATION:PT1H
X-Robots-Tag:noindex
X-PUBLISHED-TTL:PT1H
BEGIN:VTIMEZONE
TZID:Europe/Helsinki
BEGIN:DAYLIGHT
TZOFFSETFROM:+0200
TZOFFSETTO:+0300
TZNAME:EEST
DTSTART:20250330T010000
END:DAYLIGHT
BEGIN:STANDARD
TZOFFSETFROM:+0300
TZOFFSETTO:+0200
TZNAME:EET
DTSTART:20251026T010000
END:STANDARD
END:VTIMEZONE
BEGIN:VEVENT
DTSTART;TZID=Europe/Helsinki:20250703T080000
DTEND;TZID=Europe/Helsinki:20250703T170000
DTSTAMP:20260421T002410
CREATED:20250518T100855Z
LAST-MODIFIED:20250518T100904Z
UID:5333-1751529600-1751562000@dodokiro.dk
SUMMARY:Håndlæsning i "Det blå hus" i Fåborg
DESCRIPTION:Tidsbestilling:  “Det blå hus” Fåborg tlf 30306550
URL:http://dodokiro.dk/event/haandlaesning-i-det-blaa-hus-i-faaborg/
END:VEVENT
END:VCALENDAR