BEGIN:VCALENDAR
VERSION:2.0
PRODID:-//Håndlæsning ved Dodo Lindemann - ECPv6.10.2//NONSGML v1.0//EN
CALSCALE:GREGORIAN
METHOD:PUBLISH
X-WR-CALNAME:Håndlæsning ved Dodo Lindemann
X-ORIGINAL-URL:http://dodokiro.dk
X-WR-CALDESC:Begivenheder for Håndlæsning ved Dodo Lindemann
REFRESH-INTERVAL;VALUE=DURATION:PT1H
X-Robots-Tag:noindex
X-PUBLISHED-TTL:PT1H
BEGIN:VTIMEZONE
TZID:Europe/Helsinki
BEGIN:DAYLIGHT
TZOFFSETFROM:+0200
TZOFFSETTO:+0300
TZNAME:EEST
DTSTART:20250330T010000
END:DAYLIGHT
BEGIN:STANDARD
TZOFFSETFROM:+0300
TZOFFSETTO:+0200
TZNAME:EET
DTSTART:20251026T010000
END:STANDARD
END:VTIMEZONE
BEGIN:VEVENT
DTSTART;TZID=Europe/Helsinki:20251022T070000
DTEND;TZID=Europe/Helsinki:20251024T160000
DTSTAMP:20260421T064124
CREATED:20250815T055030Z
LAST-MODIFIED:20250906T095512Z
UID:5402-1761116400-1761321600@dodokiro.dk
SUMMARY:Håndlæsning og vejledning i "Huset i ro" Ikast
DESCRIPTION:Tidsbestilling ved Andreas w Nielsen tlf.nr. 24818661
URL:http://dodokiro.dk/event/haandlaesning-og-vejledning-i-huset-i-ro-ikast/
END:VEVENT
BEGIN:VEVENT
DTSTART;TZID=Europe/Helsinki:20251024T080000
DTEND;TZID=Europe/Helsinki:20251027T170000
DTSTAMP:20260421T064124
CREATED:20250916T061825Z
LAST-MODIFIED:20250916T062056Z
UID:5416-1761292800-1761584400@dodokiro.dk
SUMMARY:optaget
DESCRIPTION:
URL:http://dodokiro.dk/event/optaget-334/
END:VEVENT
END:VCALENDAR