BEGIN:VCALENDAR
VERSION:2.0
PRODID:-//Håndlæsning ved Dodo Lindemann - ECPv6.10.2//NONSGML v1.0//EN
CALSCALE:GREGORIAN
METHOD:PUBLISH
X-ORIGINAL-URL:http://dodokiro.dk
X-WR-CALDESC:Begivenheder for Håndlæsning ved Dodo Lindemann
REFRESH-INTERVAL;VALUE=DURATION:PT1H
X-Robots-Tag:noindex
X-PUBLISHED-TTL:PT1H
BEGIN:VTIMEZONE
TZID:Europe/Helsinki
BEGIN:DAYLIGHT
TZOFFSETFROM:+0200
TZOFFSETTO:+0300
TZNAME:EEST
DTSTART:20230326T010000
END:DAYLIGHT
BEGIN:STANDARD
TZOFFSETFROM:+0300
TZOFFSETTO:+0200
TZNAME:EET
DTSTART:20231029T010000
END:STANDARD
END:VTIMEZONE
BEGIN:VEVENT
DTSTART;TZID=Europe/Helsinki:20230929T080000
DTEND;TZID=Europe/Helsinki:20231001T170000
DTSTAMP:20260420T180958
CREATED:20221122T062731Z
LAST-MODIFIED:20230801T114622Z
UID:4706-1695974400-1696179600@dodokiro.dk
SUMMARY:Messe i Århus
DESCRIPTION:Krop-Sind-Ånd Messen i Ceres Park\, Århus.Jeg er på stand 66\, hvor jeg håndlæser og vejleder. Du kan også købe mine bøger om henholdsvis håndlæsning og blindtegningstydning.
URL:http://dodokiro.dk/event/messe-i-aarhus-3/
CATEGORIES:Åben for håndlæsninger,Håndlæsninger ude af huset,Messer,Messer
END:VEVENT
END:VCALENDAR