BEGIN:VCALENDAR
VERSION:2.0
PRODID:-//Håndlæsning ved Dodo Lindemann - ECPv6.10.2//NONSGML v1.0//EN
CALSCALE:GREGORIAN
METHOD:PUBLISH
X-ORIGINAL-URL:http://dodokiro.dk
X-WR-CALDESC:Begivenheder for Håndlæsning ved Dodo Lindemann
REFRESH-INTERVAL;VALUE=DURATION:PT1H
X-Robots-Tag:noindex
X-PUBLISHED-TTL:PT1H
BEGIN:VTIMEZONE
TZID:Europe/Helsinki
BEGIN:DAYLIGHT
TZOFFSETFROM:+0200
TZOFFSETTO:+0300
TZNAME:EEST
DTSTART:20250330T010000
END:DAYLIGHT
BEGIN:STANDARD
TZOFFSETFROM:+0300
TZOFFSETTO:+0200
TZNAME:EET
DTSTART:20251026T010000
END:STANDARD
BEGIN:DAYLIGHT
TZOFFSETFROM:+0200
TZOFFSETTO:+0300
TZNAME:EEST
DTSTART:20260329T010000
END:DAYLIGHT
BEGIN:STANDARD
TZOFFSETFROM:+0300
TZOFFSETTO:+0200
TZNAME:EET
DTSTART:20261025T010000
END:STANDARD
END:VTIMEZONE
BEGIN:VEVENT
DTSTART;TZID=Europe/Helsinki:20260416T080000
DTEND;TZID=Europe/Helsinki:20260416T170000
DTSTAMP:20260424T231243
CREATED:20260413T134656Z
LAST-MODIFIED:20260413T134702Z
UID:5537-1776326400-1776358800@dodokiro.dk
SUMMARY:Optaget
DESCRIPTION:
URL:http://dodokiro.dk/event/optaget-366/
END:VEVENT
BEGIN:VEVENT
DTSTART;TZID=Europe/Helsinki:20260401T080000
DTEND;TZID=Europe/Helsinki:20260408T170000
DTSTAMP:20260424T231243
CREATED:20260320T091651Z
LAST-MODIFIED:20260407T123758Z
UID:5526-1775030400-1775667600@dodokiro.dk
SUMMARY:Optaget
DESCRIPTION:
URL:http://dodokiro.dk/event/optaget-363/
END:VEVENT
BEGIN:VEVENT
DTSTART;TZID=Europe/Helsinki:20260330T080000
DTEND;TZID=Europe/Helsinki:20260330T170000
DTSTAMP:20260424T231243
CREATED:20260127T204019Z
LAST-MODIFIED:20260127T204022Z
UID:5510-1774857600-1774890000@dodokiro.dk
SUMMARY:Optaget
DESCRIPTION:
URL:http://dodokiro.dk/event/optaget-359/
END:VEVENT
BEGIN:VEVENT
DTSTART;TZID=Europe/Helsinki:20260320T080000
DTEND;TZID=Europe/Helsinki:20260330T170000
DTSTAMP:20260424T231243
CREATED:20260320T091553Z
LAST-MODIFIED:20260320T091558Z
UID:5524-1773993600-1774890000@dodokiro.dk
SUMMARY:Optaget
DESCRIPTION:
URL:http://dodokiro.dk/event/optaget-362/
END:VEVENT
BEGIN:VEVENT
DTSTART;TZID=Europe/Helsinki:20260311T080000
DTEND;TZID=Europe/Helsinki:20260315T170000
DTSTAMP:20260424T231243
CREATED:20260122T183210Z
LAST-MODIFIED:20260122T183323Z
UID:5502-1773216000-1773594000@dodokiro.dk
SUMMARY:Optaget
DESCRIPTION:
URL:http://dodokiro.dk/event/optaget-357/
END:VEVENT
BEGIN:VEVENT
DTSTART;TZID=Europe/Helsinki:20260224T080000
DTEND;TZID=Europe/Helsinki:20260224T170000
DTSTAMP:20260424T231243
CREATED:20260112T103203Z
LAST-MODIFIED:20260112T103213Z
UID:5495-1771920000-1771952400@dodokiro.dk
SUMMARY:Optaget
DESCRIPTION:
URL:http://dodokiro.dk/event/optaget-355/
END:VEVENT
BEGIN:VEVENT
DTSTART;TZID=Europe/Helsinki:20260221T080000
DTEND;TZID=Europe/Helsinki:20260308T170000
DTSTAMP:20260424T231243
CREATED:20260126T073230Z
LAST-MODIFIED:20260224T105957Z
UID:5505-1771660800-1772989200@dodokiro.dk
SUMMARY:Optaget
DESCRIPTION:
URL:http://dodokiro.dk/event/optaget-358/
END:VEVENT
BEGIN:VEVENT
DTSTART;TZID=Europe/Helsinki:20260216T080000
DTEND;TZID=Europe/Helsinki:20260222T170000
DTSTAMP:20260424T231243
CREATED:20260202T093323Z
LAST-MODIFIED:20260219T083304Z
UID:5518-1771228800-1771779600@dodokiro.dk
SUMMARY:Optaget
DESCRIPTION:
URL:http://dodokiro.dk/event/optaget-361/
END:VEVENT
BEGIN:VEVENT
DTSTART;TZID=Europe/Helsinki:20260214T080000
DTEND;TZID=Europe/Helsinki:20260215T170000
DTSTAMP:20260424T231243
CREATED:20251227T072425Z
LAST-MODIFIED:20260111T170858Z
UID:5479-1771056000-1771174800@dodokiro.dk
SUMMARY:optaget
DESCRIPTION:
URL:http://dodokiro.dk/event/optaget-351/
END:VEVENT
BEGIN:VEVENT
DTSTART;TZID=Europe/Helsinki:20260205T080000
DTEND;TZID=Europe/Helsinki:20260209T170000
DTSTAMP:20260424T231243
CREATED:20260111T170454Z
LAST-MODIFIED:20260130T182812Z
UID:5490-1770278400-1770656400@dodokiro.dk
SUMMARY:Optaget
DESCRIPTION:
URL:http://dodokiro.dk/event/optaget-354/
END:VEVENT
BEGIN:VEVENT
DTSTART;TZID=Europe/Helsinki:20260202T080000
DTEND;TZID=Europe/Helsinki:20260203T170000
DTSTAMP:20260424T231243
CREATED:20260111T165923Z
LAST-MODIFIED:20260111T170147Z
UID:5487-1770019200-1770138000@dodokiro.dk
SUMMARY:Optaget
DESCRIPTION:
URL:http://dodokiro.dk/event/optaget-353/
END:VEVENT
BEGIN:VEVENT
DTSTART;TZID=Europe/Helsinki:20260131T080000
DTEND;TZID=Europe/Helsinki:20260201T170000
DTSTAMP:20260424T231243
CREATED:20251205T093155Z
LAST-MODIFIED:20251205T093159Z
UID:5471-1769846400-1769965200@dodokiro.dk
SUMMARY:Messe på Yogaskolen i Nyborg
DESCRIPTION:
URL:http://dodokiro.dk/event/messe-paa-yogaskolen-i-nyborg-2/
END:VEVENT
BEGIN:VEVENT
DTSTART;TZID=Europe/Helsinki:20260126T080000
DTEND;TZID=Europe/Helsinki:20260130T170000
DTSTAMP:20260424T231243
CREATED:20260112T110008Z
LAST-MODIFIED:20260122T183032Z
UID:5498-1769414400-1769792400@dodokiro.dk
SUMMARY:optaget
DESCRIPTION:
URL:http://dodokiro.dk/event/optaget-356/
END:VEVENT
BEGIN:VEVENT
DTSTART;TZID=Europe/Helsinki:20260117T080000
DTEND;TZID=Europe/Helsinki:20260125T170000
DTSTAMP:20260424T231243
CREATED:20251205T093019Z
LAST-MODIFIED:20251205T093023Z
UID:5469-1768636800-1769360400@dodokiro.dk
SUMMARY:Håndlæsninger i Emdrup
DESCRIPTION:kontakt Hanne på tlf 21912295 for booking
URL:http://dodokiro.dk/event/haandlaesninger-i-emdrup/
END:VEVENT
BEGIN:VEVENT
DTSTART;TZID=Europe/Helsinki:20260114T080000
DTEND;TZID=Europe/Helsinki:20260116T170000
DTSTAMP:20260424T231243
CREATED:20260111T165531Z
LAST-MODIFIED:20260115T193345Z
UID:5483-1768377600-1768582800@dodokiro.dk
SUMMARY:Optaget
DESCRIPTION:
URL:http://dodokiro.dk/event/optaget-352/
END:VEVENT
BEGIN:VEVENT
DTSTART;TZID=Europe/Helsinki:20260110T080000
DTEND;TZID=Europe/Helsinki:20260112T170000
DTSTAMP:20260424T231243
CREATED:20251205T092659Z
LAST-MODIFIED:20260111T165445Z
UID:5467-1768032000-1768237200@dodokiro.dk
SUMMARY:Optaget
DESCRIPTION:
URL:http://dodokiro.dk/event/optaget-349/
END:VEVENT
BEGIN:VEVENT
DTSTART;TZID=Europe/Helsinki:20251220T080000
DTEND;TZID=Europe/Helsinki:20260107T170000
DTSTAMP:20260424T231243
CREATED:20251205T092347Z
LAST-MODIFIED:20251217T111621Z
UID:5463-1766217600-1767805200@dodokiro.dk
SUMMARY:Optaget
DESCRIPTION:
URL:http://dodokiro.dk/event/optaget-347/
END:VEVENT
BEGIN:VEVENT
DTSTART;TZID=Europe/Helsinki:20251219T080000
DTEND;TZID=Europe/Helsinki:20251219T170000
DTSTAMP:20260424T231243
CREATED:20251206T134103Z
LAST-MODIFIED:20251206T134106Z
UID:5474-1766131200-1766163600@dodokiro.dk
SUMMARY:optaget
DESCRIPTION:
URL:http://dodokiro.dk/event/optaget-350/
END:VEVENT
BEGIN:VEVENT
DTSTART;TZID=Europe/Helsinki:20251210T080000
DTEND;TZID=Europe/Helsinki:20251212T170000
DTSTAMP:20260424T231243
CREATED:20251024T052743Z
LAST-MODIFIED:20251024T053012Z
UID:5438-1765353600-1765558800@dodokiro.dk
SUMMARY:Håndlæsning og vejledning i “Huset i ro” Ikast
DESCRIPTION:Tidsbestilling ved Andreas w Nielsen tlf.nr. 24818661
URL:http://dodokiro.dk/event/haandlaesning-og-vejledning-i-huset-i-ro-ikast-2/
END:VEVENT
BEGIN:VEVENT
DTSTART;TZID=Europe/Helsinki:20251205T080000
DTEND;TZID=Europe/Helsinki:20251219T170000
DTSTAMP:20260424T231243
CREATED:20251205T092231Z
LAST-MODIFIED:20251216T172445Z
UID:5461-1764921600-1766163600@dodokiro.dk
SUMMARY:Optaget
DESCRIPTION:
URL:http://dodokiro.dk/event/optaget-346/
END:VEVENT
BEGIN:VEVENT
DTSTART;TZID=Europe/Helsinki:20251129T080000
DTEND;TZID=Europe/Helsinki:20251204T170000
DTSTAMP:20260424T231243
CREATED:20251205T092448Z
LAST-MODIFIED:20251205T092452Z
UID:5465-1764403200-1764867600@dodokiro.dk
SUMMARY:Optaget
DESCRIPTION:
URL:http://dodokiro.dk/event/optaget-348/
END:VEVENT
BEGIN:VEVENT
DTSTART;TZID=Europe/Helsinki:20251121T080000
DTEND;TZID=Europe/Helsinki:20251124T170000
DTSTAMP:20260424T231243
CREATED:20250916T061947Z
LAST-MODIFIED:20250916T061951Z
UID:5418-1763712000-1764003600@dodokiro.dk
SUMMARY:Optaget
DESCRIPTION:
URL:http://dodokiro.dk/event/optaget-335/
END:VEVENT
BEGIN:VEVENT
DTSTART;TZID=Europe/Helsinki:20251110T080000
DTEND;TZID=Europe/Helsinki:20251117T170000
DTSTAMP:20260424T231243
CREATED:20251110T170406Z
LAST-MODIFIED:20251110T170412Z
UID:5456-1762761600-1763398800@dodokiro.dk
SUMMARY:Optaget
DESCRIPTION:
URL:http://dodokiro.dk/event/optaget-345/
END:VEVENT
BEGIN:VEVENT
DTSTART;TZID=Europe/Helsinki:20251110T080000
DTEND;TZID=Europe/Helsinki:20251116T170000
DTSTAMP:20260424T231243
CREATED:20251110T073603Z
LAST-MODIFIED:20251110T073606Z
UID:5448-1762761600-1763312400@dodokiro.dk
SUMMARY:Optaget
DESCRIPTION:
URL:http://dodokiro.dk/event/optaget-344/
END:VEVENT
BEGIN:VEVENT
DTSTART;TZID=Europe/Helsinki:20251110T080000
DTEND;TZID=Europe/Helsinki:20251110T170000
DTSTAMP:20260424T231243
CREATED:20251110T073157Z
LAST-MODIFIED:20251110T073203Z
UID:5445-1762761600-1762794000@dodokiro.dk
SUMMARY:Optaget
DESCRIPTION:
URL:http://dodokiro.dk/event/optaget-343/
END:VEVENT
BEGIN:VEVENT
DTSTART;TZID=Europe/Helsinki:20251028T080000
DTEND;TZID=Europe/Helsinki:20251028T170000
DTSTAMP:20260424T231243
CREATED:20251024T053349Z
LAST-MODIFIED:20251024T053352Z
UID:5442-1761638400-1761670800@dodokiro.dk
SUMMARY:Optaget
DESCRIPTION:
URL:http://dodokiro.dk/event/optaget-342/
END:VEVENT
BEGIN:VEVENT
DTSTART;TZID=Europe/Helsinki:20251024T080000
DTEND;TZID=Europe/Helsinki:20251027T170000
DTSTAMP:20260424T231243
CREATED:20250916T061825Z
LAST-MODIFIED:20250916T062056Z
UID:5416-1761292800-1761584400@dodokiro.dk
SUMMARY:optaget
DESCRIPTION:
URL:http://dodokiro.dk/event/optaget-334/
END:VEVENT
BEGIN:VEVENT
DTSTART;TZID=Europe/Helsinki:20251022T070000
DTEND;TZID=Europe/Helsinki:20251024T160000
DTSTAMP:20260424T231243
CREATED:20250815T055030Z
LAST-MODIFIED:20250906T095512Z
UID:5402-1761116400-1761321600@dodokiro.dk
SUMMARY:Håndlæsning og vejledning i "Huset i ro" Ikast
DESCRIPTION:Tidsbestilling ved Andreas w Nielsen tlf.nr. 24818661
URL:http://dodokiro.dk/event/haandlaesning-og-vejledning-i-huset-i-ro-ikast/
END:VEVENT
BEGIN:VEVENT
DTSTART;TZID=Europe/Helsinki:20251021T080000
DTEND;TZID=Europe/Helsinki:20251021T170000
DTSTAMP:20260424T231243
CREATED:20251005T131620Z
LAST-MODIFIED:20251005T131627Z
UID:5429-1761033600-1761066000@dodokiro.dk
SUMMARY:Optaget
DESCRIPTION:
URL:http://dodokiro.dk/event/optaget-338/
END:VEVENT
BEGIN:VEVENT
DTSTART;TZID=Europe/Helsinki:20251018T080000
DTEND;TZID=Europe/Helsinki:20251019T170000
DTSTAMP:20260424T231243
CREATED:20251005T131751Z
LAST-MODIFIED:20251005T131755Z
UID:5432-1760774400-1760893200@dodokiro.dk
SUMMARY:Optaget
DESCRIPTION:
URL:http://dodokiro.dk/event/optaget-339/
END:VEVENT
END:VCALENDAR