BEGIN:VCALENDAR
VERSION:2.0
PRODID:-//Håndlæsning ved Dodo Lindemann - ECPv6.10.2//NONSGML v1.0//EN
CALSCALE:GREGORIAN
METHOD:PUBLISH
X-ORIGINAL-URL:http://dodokiro.dk
X-WR-CALDESC:Begivenheder for Håndlæsning ved Dodo Lindemann
REFRESH-INTERVAL;VALUE=DURATION:PT1H
X-Robots-Tag:noindex
X-PUBLISHED-TTL:PT1H
BEGIN:VTIMEZONE
TZID:Europe/Helsinki
BEGIN:DAYLIGHT
TZOFFSETFROM:+0200
TZOFFSETTO:+0300
TZNAME:EEST
DTSTART:20190331T010000
END:DAYLIGHT
BEGIN:STANDARD
TZOFFSETFROM:+0300
TZOFFSETTO:+0200
TZNAME:EET
DTSTART:20191027T010000
END:STANDARD
END:VTIMEZONE
BEGIN:VEVENT
DTSTART;TZID=Europe/Helsinki:20191104T080000
DTEND;TZID=Europe/Helsinki:20191107T170000
DTSTAMP:20260426T072801
CREATED:20190826T125308Z
LAST-MODIFIED:20190826T130112Z
UID:2802-1572854400-1573146000@dodokiro.dk
SUMMARY:Håndlæsning og vejledning  i Emdrup på Sjælland
DESCRIPTION:Kontakt : Hanne Nohr Sommer\n\n\n\n+45 21 91 22 95‬ \n\n\n\n\n\n\n\nhttps://www.facebook.com/groups/267885919998523/ \n\n\n\n\n\n\n\n\n\n\n\nGoogle kalender
URL:http://dodokiro.dk/event/2802/
END:VEVENT
BEGIN:VEVENT
DTSTART;TZID=Europe/Helsinki:20191108T080000
DTEND;TZID=Europe/Helsinki:20191108T170000
DTSTAMP:20260426T072801
CREATED:20191105T063539Z
LAST-MODIFIED:20191105T063540Z
UID:2937-1573200000-1573232400@dodokiro.dk
SUMMARY:optaget
DESCRIPTION:
URL:http://dodokiro.dk/event/optaget-23/
END:VEVENT
BEGIN:VEVENT
DTSTART;TZID=Europe/Helsinki:20191109T080000
DTEND;TZID=Europe/Helsinki:20191110T170000
DTSTAMP:20260426T072801
CREATED:20191105T064837Z
LAST-MODIFIED:20191105T064844Z
UID:2943-1573286400-1573405200@dodokiro.dk
SUMMARY:lukket
DESCRIPTION:
URL:http://dodokiro.dk/event/lukket-11/
END:VEVENT
BEGIN:VEVENT
DTSTART;TZID=Europe/Helsinki:20191111T080000
DTEND;TZID=Europe/Helsinki:20191111T170000
DTSTAMP:20260426T072801
CREATED:20191105T114454Z
LAST-MODIFIED:20191105T114455Z
UID:2953-1573459200-1573491600@dodokiro.dk
SUMMARY:optaget
DESCRIPTION:
URL:http://dodokiro.dk/event/optaget-28/
END:VEVENT
BEGIN:VEVENT
DTSTART;TZID=Europe/Helsinki:20191112T080000
DTEND;TZID=Europe/Helsinki:20191112T170000
DTSTAMP:20260426T072801
CREATED:20191105T063634Z
LAST-MODIFIED:20191105T063635Z
UID:2939-1573545600-1573578000@dodokiro.dk
SUMMARY:optaget
DESCRIPTION:
URL:http://dodokiro.dk/event/optaget-24/
END:VEVENT
BEGIN:VEVENT
DTSTART;TZID=Europe/Helsinki:20191113T080000
DTEND;TZID=Europe/Helsinki:20191113T170000
DTSTAMP:20260426T072801
CREATED:20191108T123922Z
LAST-MODIFIED:20191108T123924Z
UID:2969-1573632000-1573664400@dodokiro.dk
SUMMARY:optaget
DESCRIPTION:
URL:http://dodokiro.dk/event/optaget-30/
END:VEVENT
BEGIN:VEVENT
DTSTART;TZID=Europe/Helsinki:20191114T080000
DTEND;TZID=Europe/Helsinki:20191114T170000
DTSTAMP:20260426T072801
CREATED:20191105T063657Z
LAST-MODIFIED:20191105T063659Z
UID:2941-1573718400-1573750800@dodokiro.dk
SUMMARY:optaget
DESCRIPTION:
URL:http://dodokiro.dk/event/optaget-25/
END:VEVENT
BEGIN:VEVENT
DTSTART;TZID=Europe/Helsinki:20191115T080000
DTEND;TZID=Europe/Helsinki:20191115T170000
DTSTAMP:20260426T072801
CREATED:20191105T134541Z
LAST-MODIFIED:20191105T134541Z
UID:2965-1573804800-1573837200@dodokiro.dk
SUMMARY:optaget
DESCRIPTION:
URL:http://dodokiro.dk/event/optaget-29/
END:VEVENT
BEGIN:VEVENT
DTSTART;TZID=Europe/Helsinki:20191118T080000
DTEND;TZID=Europe/Helsinki:20191118T170000
DTSTAMP:20260426T072801
CREATED:20191105T065000Z
LAST-MODIFIED:20191105T065003Z
UID:2947-1574064000-1574096400@dodokiro.dk
SUMMARY:optaget
DESCRIPTION:
URL:http://dodokiro.dk/event/optaget-26/
END:VEVENT
BEGIN:VEVENT
DTSTART;TZID=Europe/Helsinki:20191119T093000
DTEND;TZID=Europe/Helsinki:20191120T170000
DTSTAMP:20260426T072801
CREATED:20190807T134021Z
LAST-MODIFIED:20191024T151918Z
UID:2648-1574155800-1574269200@dodokiro.dk
SUMMARY:Håndlæsning i Herning
DESCRIPTION:Jeg kommer til Herning og håndlæser i Salon  Mea-Cor\,  Smallegade i Herning  \n\n\n\n\n\nTidsbestilling foregår via Salon Mea-Cor. Mød op og book tid eller ring på tlf.nr. 9712 2200 \n\n\n\nPris 950 kr
URL:http://dodokiro.dk/event/haandlaesning-i-herning/
CATEGORIES:Håndlæsninger ude af huset
END:VEVENT
BEGIN:VEVENT
DTSTART;TZID=Europe/Helsinki:20191121T093000
DTEND;TZID=Europe/Helsinki:20191121T170000
DTSTAMP:20260426T072801
CREATED:20191024T143251Z
LAST-MODIFIED:20191024T143732Z
UID:2869-1574328600-1574355600@dodokiro.dk
SUMMARY:Håndlæsning i Åbenrå
DESCRIPTION:Jeg håndlæser i Åbenrå på adressen Jørgensgård 17. Der er også mulighed for at få en tid d. 22 om formiddagen. \n\n\n\nPrisen er 950 kr. for ca 1 time og 550 for ca. 30 min
URL:http://dodokiro.dk/event/haandlaesning-i-aabenraa/
CATEGORIES:Håndlæsninger ude af huset
ORGANIZER;CN="Bestil tid hos mig p%C3%A5 tlf. eller mail":MAILTO:dodo@dodokiro.dk
END:VEVENT
BEGIN:VEVENT
DTSTART;TZID=Europe/Helsinki:20191122T093000
DTEND;TZID=Europe/Helsinki:20191122T123000
DTSTAMP:20260426T072801
CREATED:20191024T144921Z
LAST-MODIFIED:20191024T145127Z
UID:2877-1574415000-1574425800@dodokiro.dk
SUMMARY:Håndlæsning i Åbenrå
DESCRIPTION:Jeg håndlæser i Åbenrå på adressen Jørgensgård 17.  \n\n\n\nPrisen er 950 kr. for ca 1 time og 550 for ca. 30 min \n\n\n\nBestil tid hos mig på tlf. eller mail\n\n\n\n23642391 \n\n\n\ndodo@dodokiro.dk
URL:http://dodokiro.dk/event/haandlaesning-i-aabenraa-2/
CATEGORIES:Håndlæsninger ude af huset
END:VEVENT
BEGIN:VEVENT
DTSTART;TZID=Europe/Helsinki:20191123T080000
DTEND;TZID=Europe/Helsinki:20191124T170000
DTSTAMP:20260426T072801
CREATED:20191105T064934Z
LAST-MODIFIED:20191105T064935Z
UID:2945-1574496000-1574614800@dodokiro.dk
SUMMARY:lukket
DESCRIPTION:
URL:http://dodokiro.dk/event/lukket-12/
END:VEVENT
BEGIN:VEVENT
DTSTART;TZID=Europe/Helsinki:20191125T080000
DTEND;TZID=Europe/Helsinki:20191125T170000
DTSTAMP:20260426T072801
CREATED:20191105T065040Z
LAST-MODIFIED:20191105T065041Z
UID:2949-1574668800-1574701200@dodokiro.dk
SUMMARY:optaget
DESCRIPTION:
URL:http://dodokiro.dk/event/optaget-27/
END:VEVENT
BEGIN:VEVENT
DTSTART;TZID=Europe/Helsinki:20191128T100000
DTEND;TZID=Europe/Helsinki:20191128T173000
DTSTAMP:20260426T072801
CREATED:20191024T151744Z
LAST-MODIFIED:20191024T151759Z
UID:2882-1574935200-1574962200@dodokiro.dk
SUMMARY:Håndlæsning i Odense
DESCRIPTION:Til jer der ikke har mulighed for at komme til Svendborg\, har jeg dette tilbud i samarbejde med Helsekosten Spiren i Odense. Jeg glæder mig til at håndlæse og vejlede i de dejlige lokaler på Fåborgvej . Der skal bestilles tid gennem Spiren\, ved at møde op eller på tlf.nr. 66 17 80 77
URL:http://dodokiro.dk/event/haandlaesning-i-odense-3/
END:VEVENT
BEGIN:VEVENT
DTSTART;TZID=Europe/Helsinki:20191130T103000
DTEND;TZID=Europe/Helsinki:20191130T170000
DTSTAMP:20260426T072801
CREATED:20191024T130107Z
LAST-MODIFIED:20191112T115630Z
UID:2860-1575109800-1575133200@dodokiro.dk
SUMMARY:Workshop i "Hændernes Univers" Fåborgvej 18 Odense
DESCRIPTION:Der er en\, der engang har sagt\, at hænderne er sjælens spejl. Hvordan det lige hænger sammen\, vil Dodo tale om denne dag. Dodo vil videregive noget af det\, hun har lært gennem 30 år som håndlæser. \n\n\n\nWorkshoppen har fokus på\, hvad vi kan lære om os selv ved blot at se på vores hænder. Endvidere vil Dodo vise\, hvordan vi med få streger i en blindtegning kan få et godt billede på\, hvor vi er her og nu.  \n\n\n\nDagen er tilrettelagt således\, at du kan bruge den viden og indsigt du får i din hverdag. \n\n\n\nVi skal lave blindetegninger og enkle tydninger.Vi skal underholdes og vi skal arbejdeAlt foregår i en uhøjtidelig og afslappet atmosfære \n\n\n\nMedbring gerne en lup\, blyanter (gerne bløde) og evt. tynde tusser eller farveblyanterog husk madpakke\, der er gratis kaffe/the.Tid: 30.11.  kl. 10.30 – 17.00    \n\n\n\nTilmeldning hos mig på tlf.nr. 23642391 eller dodo@dodokiro.dkPris: 450 kr.  betales ved tilmelding på 39503Vi bruger bogen “Hændernes Univers”Tilmelding: dodo@dodokiro.dk
URL:http://dodokiro.dk/event/2860/
CATEGORIES:Foredrag og workshops,Uddannelse og kurser
END:VEVENT
END:VCALENDAR