BEGIN:VCALENDAR
VERSION:2.0
PRODID:-//Håndlæsning ved Dodo Lindemann - ECPv6.10.2//NONSGML v1.0//EN
CALSCALE:GREGORIAN
METHOD:PUBLISH
X-ORIGINAL-URL:http://dodokiro.dk
X-WR-CALDESC:Begivenheder for Håndlæsning ved Dodo Lindemann
REFRESH-INTERVAL;VALUE=DURATION:PT1H
X-Robots-Tag:noindex
X-PUBLISHED-TTL:PT1H
BEGIN:VTIMEZONE
TZID:Europe/Helsinki
BEGIN:DAYLIGHT
TZOFFSETFROM:+0200
TZOFFSETTO:+0300
TZNAME:EEST
DTSTART:20200329T010000
END:DAYLIGHT
BEGIN:STANDARD
TZOFFSETFROM:+0300
TZOFFSETTO:+0200
TZNAME:EET
DTSTART:20201025T010000
END:STANDARD
BEGIN:DAYLIGHT
TZOFFSETFROM:+0200
TZOFFSETTO:+0300
TZNAME:EEST
DTSTART:20210328T010000
END:DAYLIGHT
BEGIN:STANDARD
TZOFFSETFROM:+0300
TZOFFSETTO:+0200
TZNAME:EET
DTSTART:20211031T010000
END:STANDARD
END:VTIMEZONE
BEGIN:VEVENT
DTSTART;TZID=Europe/Helsinki:20201130T080000
DTEND;TZID=Europe/Helsinki:20201201T170000
DTSTAMP:20260421T033919
CREATED:20201130T102551Z
LAST-MODIFIED:20201130T102552Z
UID:4070-1606723200-1606842000@dodokiro.dk
SUMMARY:Optaget
DESCRIPTION:
URL:http://dodokiro.dk/event/optaget-111/
END:VEVENT
BEGIN:VEVENT
DTSTART;TZID=Europe/Helsinki:20201204T080000
DTEND;TZID=Europe/Helsinki:20201204T170000
DTSTAMP:20260421T033919
CREATED:20201130T102447Z
LAST-MODIFIED:20201130T102457Z
UID:4068-1607068800-1607101200@dodokiro.dk
SUMMARY:Optaget
DESCRIPTION:
URL:http://dodokiro.dk/event/optaget-110/
END:VEVENT
BEGIN:VEVENT
DTSTART;TZID=Europe/Helsinki:20201205T080000
DTEND;TZID=Europe/Helsinki:20201206T170000
DTSTAMP:20260421T033919
CREATED:20201103T193403Z
LAST-MODIFIED:20201103T193405Z
UID:3969-1607155200-1607274000@dodokiro.dk
SUMMARY:Optaget
DESCRIPTION:
URL:http://dodokiro.dk/event/optaget-106/
END:VEVENT
BEGIN:VEVENT
DTSTART;TZID=Europe/Helsinki:20201212T080000
DTEND;TZID=Europe/Helsinki:20201213T170000
DTSTAMP:20260421T033919
CREATED:20201103T193452Z
LAST-MODIFIED:20201103T193454Z
UID:3971-1607760000-1607878800@dodokiro.dk
SUMMARY:optaget
DESCRIPTION:
URL:http://dodokiro.dk/event/optaget-107/
END:VEVENT
BEGIN:VEVENT
DTSTART;TZID=Europe/Helsinki:20201219T080000
DTEND;TZID=Europe/Helsinki:20201220T170000
DTSTAMP:20260421T033919
CREATED:20201103T193517Z
LAST-MODIFIED:20201103T193518Z
UID:3973-1608364800-1608483600@dodokiro.dk
SUMMARY:optaget
DESCRIPTION:
URL:http://dodokiro.dk/event/optaget-108/
END:VEVENT
BEGIN:VEVENT
DTSTART;TZID=Europe/Helsinki:20201221T080000
DTEND;TZID=Europe/Helsinki:20201227T170000
DTSTAMP:20260421T033919
CREATED:20191129T133351Z
LAST-MODIFIED:20201014T080515Z
UID:3085-1608537600-1609088400@dodokiro.dk
SUMMARY:Lukket
DESCRIPTION:
URL:http://dodokiro.dk/event/lukket-18/
END:VEVENT
BEGIN:VEVENT
DTSTART;TZID=Europe/Helsinki:20201231T080000
DTEND;TZID=Europe/Helsinki:20210103T170000
DTSTAMP:20260421T033919
CREATED:20201103T193626Z
LAST-MODIFIED:20201103T193627Z
UID:3975-1609401600-1609693200@dodokiro.dk
SUMMARY:Lukket
DESCRIPTION:
URL:http://dodokiro.dk/event/lukket-26/
END:VEVENT
END:VCALENDAR