BEGIN:VCALENDAR
VERSION:2.0
PRODID:-//Håndlæsning ved Dodo Lindemann - ECPv6.10.2//NONSGML v1.0//EN
CALSCALE:GREGORIAN
METHOD:PUBLISH
X-ORIGINAL-URL:http://dodokiro.dk
X-WR-CALDESC:Begivenheder for Håndlæsning ved Dodo Lindemann
REFRESH-INTERVAL;VALUE=DURATION:PT1H
X-Robots-Tag:noindex
X-PUBLISHED-TTL:PT1H
BEGIN:VTIMEZONE
TZID:Europe/Helsinki
BEGIN:DAYLIGHT
TZOFFSETFROM:+0200
TZOFFSETTO:+0300
TZNAME:EEST
DTSTART:20220327T010000
END:DAYLIGHT
BEGIN:STANDARD
TZOFFSETFROM:+0300
TZOFFSETTO:+0200
TZNAME:EET
DTSTART:20221030T010000
END:STANDARD
END:VTIMEZONE
BEGIN:VEVENT
DTSTART;TZID=Europe/Helsinki:20220907T080000
DTEND;TZID=Europe/Helsinki:20220919T170000
DTSTAMP:20260421T165922
CREATED:20220803T045550Z
LAST-MODIFIED:20220803T045551Z
UID:4584-1662537600-1663606800@dodokiro.dk
SUMMARY:optaget/ferie
DESCRIPTION:
URL:http://dodokiro.dk/event/optaget-ferie-2/
END:VEVENT
BEGIN:VEVENT
DTSTART;TZID=Europe/Helsinki:20220920T080000
DTEND;TZID=Europe/Helsinki:20220921T170000
DTSTAMP:20260421T165922
CREATED:20220919T160452Z
LAST-MODIFIED:20220919T160454Z
UID:4631-1663660800-1663779600@dodokiro.dk
SUMMARY:Optaget
DESCRIPTION:
URL:http://dodokiro.dk/event/optaget-174/
END:VEVENT
BEGIN:VEVENT
DTSTART;TZID=Europe/Helsinki:20220922T080000
DTEND;TZID=Europe/Helsinki:20220922T170000
DTSTAMP:20260421T165922
CREATED:20220920T104735Z
LAST-MODIFIED:20220920T104736Z
UID:4636-1663833600-1663866000@dodokiro.dk
SUMMARY:Optaget
DESCRIPTION:
URL:http://dodokiro.dk/event/optaget-175/
END:VEVENT
BEGIN:VEVENT
DTSTART;TZID=Europe/Helsinki:20220923T110000
DTEND;TZID=Europe/Helsinki:20220923T170000
DTSTAMP:20260421T165922
CREATED:20220403T140419Z
LAST-MODIFIED:20220919T161052Z
UID:4520-1663930800-1663952400@dodokiro.dk
SUMMARY:Håndlæsning i "det blå hus" Fåborg
DESCRIPTION:Du har mulighed for at booke en tid\, du kan vælge mellem :Ca. 30 min for 650\,- kr. eller ca. 60 min for 950\,- kr. Det foregår i Det Blå Hus\, og du kan booke din tid i helsekosten eller på 30306550.
URL:http://dodokiro.dk/event/optaget-157/
LOCATION:Østergade 41B Østergade 41B\, 5600 Faaborg
CATEGORIES:Håndlæsninger ude af huset
END:VEVENT
BEGIN:VEVENT
DTSTART;TZID=Europe/Helsinki:20220924T080000
DTEND;TZID=Europe/Helsinki:20220925T170000
DTSTAMP:20260421T165922
CREATED:20220803T050216Z
LAST-MODIFIED:20220803T055903Z
UID:4586-1664006400-1664125200@dodokiro.dk
SUMMARY:Weekendkursus: "Udvidet blindtegningskursus" for øvede.
DESCRIPTION:Kurset er for dig der har været på nogle af mine andre kurser eller har taget en håndlæseruddannelse/håndlæserkurser andre steder – med andre ord har prøvet at arbejde med blindtegninger før på den ene eller den anden måde. \n\n\n\nJeg gennem går hvordan disse blindtegningstydninger kan sige meget om en persons situation som den er her og nu. Jeg vil også vise\, hvordan en blindtegning kan trække streger til fortiden og ligeledes pege mod fremtiden. Dette er endvidere optakt til at kunne arbejde lidt mere med klarsyn i fremtidige læsninger. \n\n\n\nDagen er tilrettelagt således\, at du kan bruge den viden og indsigt du får i din hverdag. \n\n\n\nMedbring gerne blindtegninger som du har spørgsmål til – så ser vi på dem\, vi når. \n\n\n\nMedbring gerne en lup\, blyanter (gerne bløde) og evt. tynde tusser eller farveblyanterog husk madpakke\, der er gratis kaffe/the.
URL:http://dodokiro.dk/event/weekendkursus-udvidet-blindtegningskursus-for-oevede-2/
CATEGORIES:Foredrag og workshops,Uddannelse og kurser
END:VEVENT
BEGIN:VEVENT
DTSTART;TZID=Europe/Helsinki:20220929T000000
DTEND;TZID=Europe/Helsinki:20221002T235959
DTSTAMP:20260421T165922
CREATED:20220308T173637Z
LAST-MODIFIED:20220519T100732Z
UID:4504-1664409600-1664755199@dodokiro.dk
SUMMARY:Messe i Århus
DESCRIPTION:Ceres Park Århus (Århus Stadion)Stadion Allé 76\, 8000 Århus C
URL:http://dodokiro.dk/event/messe-i-aarhus-2/
CATEGORIES:Messer,Messer
END:VEVENT
END:VCALENDAR