BEGIN:VCALENDAR
VERSION:2.0
PRODID:-//Håndlæsning ved Dodo Lindemann - ECPv6.10.2//NONSGML v1.0//EN
CALSCALE:GREGORIAN
METHOD:PUBLISH
X-WR-CALNAME:Håndlæsning ved Dodo Lindemann
X-ORIGINAL-URL:http://dodokiro.dk
X-WR-CALDESC:Begivenheder for Håndlæsning ved Dodo Lindemann
REFRESH-INTERVAL;VALUE=DURATION:PT1H
X-Robots-Tag:noindex
X-PUBLISHED-TTL:PT1H
BEGIN:VTIMEZONE
TZID:Europe/Helsinki
BEGIN:DAYLIGHT
TZOFFSETFROM:+0200
TZOFFSETTO:+0300
TZNAME:EEST
DTSTART:20220327T010000
END:DAYLIGHT
BEGIN:STANDARD
TZOFFSETFROM:+0300
TZOFFSETTO:+0200
TZNAME:EET
DTSTART:20221030T010000
END:STANDARD
END:VTIMEZONE
BEGIN:VEVENT
DTSTART;TZID=Europe/Helsinki:20220929T000000
DTEND;TZID=Europe/Helsinki:20221002T235959
DTSTAMP:20260421T183305
CREATED:20220308T173637Z
LAST-MODIFIED:20220519T100732Z
UID:4504-1664409600-1664755199@dodokiro.dk
SUMMARY:Messe i Århus
DESCRIPTION:Ceres Park Århus (Århus Stadion)Stadion Allé 76\, 8000 Århus C
URL:http://dodokiro.dk/event/messe-i-aarhus-2/
CATEGORIES:Messer,Messer
END:VEVENT
BEGIN:VEVENT
DTSTART;TZID=Europe/Helsinki:20221003T080000
DTEND;TZID=Europe/Helsinki:20221003T170000
DTSTAMP:20260421T183305
CREATED:20220925T160531Z
LAST-MODIFIED:20220925T160533Z
UID:4638-1664784000-1664816400@dodokiro.dk
SUMMARY:Optaget
DESCRIPTION:
URL:http://dodokiro.dk/event/optaget-176/
END:VEVENT
BEGIN:VEVENT
DTSTART;TZID=Europe/Helsinki:20221004T080000
DTEND;TZID=Europe/Helsinki:20221010T170000
DTSTAMP:20260421T183305
CREATED:20221005T092034Z
LAST-MODIFIED:20221005T092036Z
UID:4649-1664870400-1665421200@dodokiro.dk
SUMMARY:Optaget
DESCRIPTION:
URL:http://dodokiro.dk/event/optaget-179/
END:VEVENT
BEGIN:VEVENT
DTSTART;TZID=Europe/Helsinki:20221011T093000
DTEND;TZID=Europe/Helsinki:20221012T170000
DTSTAMP:20260421T183305
CREATED:20220109T174231Z
LAST-MODIFIED:20221005T091952Z
UID:4461-1665480600-1665594000@dodokiro.dk
SUMMARY:Håndlæsning og vejledning i Herning
DESCRIPTION:Jeg kommer til Herning og håndlæser – tidsbestilling hos frisør Mea-cor
URL:http://dodokiro.dk/event/haandlaesning-og-vejledning-i-herning/
LOCATION:Smallegade\, Smallegade 10\, 7400 Herning\, Danmark
CATEGORIES:Håndlæsninger ude af huset
END:VEVENT
BEGIN:VEVENT
DTSTART;TZID=Europe/Helsinki:20221012T080000
DTEND;TZID=Europe/Helsinki:20221012T170000
DTSTAMP:20260421T183305
CREATED:20220925T160604Z
LAST-MODIFIED:20220925T160634Z
UID:4640-1665561600-1665594000@dodokiro.dk
SUMMARY:optaget
DESCRIPTION:
URL:http://dodokiro.dk/event/optaget-177/
END:VEVENT
BEGIN:VEVENT
DTSTART;TZID=Europe/Helsinki:20221013T080000
DTEND;TZID=Europe/Helsinki:20221014T170000
DTSTAMP:20260421T183305
CREATED:20221005T092130Z
LAST-MODIFIED:20221005T092132Z
UID:4651-1665648000-1665766800@dodokiro.dk
SUMMARY:Optaget
DESCRIPTION:
URL:http://dodokiro.dk/event/optaget-180/
END:VEVENT
BEGIN:VEVENT
DTSTART;TZID=Europe/Helsinki:20221015T080000
DTEND;TZID=Europe/Helsinki:20221016T170000
DTSTAMP:20260421T183305
CREATED:20220308T174640Z
LAST-MODIFIED:20220803T061001Z
UID:4509-1665820800-1665939600@dodokiro.dk
SUMMARY:Helsemesse i Odense
DESCRIPTION:
URL:http://dodokiro.dk/event/helsemesse-i-odense-2/
CATEGORIES:Messer
END:VEVENT
BEGIN:VEVENT
DTSTART;TZID=Europe/Helsinki:20221016T080000
DTEND;TZID=Europe/Helsinki:20221023T170000
DTSTAMP:20260421T183305
CREATED:20221020T093447Z
LAST-MODIFIED:20221020T093448Z
UID:4660-1665907200-1666544400@dodokiro.dk
SUMMARY:optaget
DESCRIPTION:
URL:http://dodokiro.dk/event/optaget-184/
END:VEVENT
BEGIN:VEVENT
DTSTART;TZID=Europe/Helsinki:20221024T080000
DTEND;TZID=Europe/Helsinki:20221026T170000
DTSTAMP:20260421T183305
CREATED:20220925T160741Z
LAST-MODIFIED:20220925T160742Z
UID:4642-1666598400-1666803600@dodokiro.dk
SUMMARY:optaget
DESCRIPTION:
URL:http://dodokiro.dk/event/optaget-178/
END:VEVENT
BEGIN:VEVENT
DTSTART;TZID=Europe/Helsinki:20221027T080000
DTEND;TZID=Europe/Helsinki:20221028T170000
DTSTAMP:20260421T183305
CREATED:20221020T093350Z
LAST-MODIFIED:20221020T093351Z
UID:4658-1666857600-1666976400@dodokiro.dk
SUMMARY:optaget
DESCRIPTION:
URL:http://dodokiro.dk/event/optaget-183/
END:VEVENT
BEGIN:VEVENT
DTSTART;TZID=Europe/Helsinki:20221029T093000
DTEND;TZID=Europe/Helsinki:20221030T160000
DTSTAMP:20260421T183305
CREATED:20220803T054431Z
LAST-MODIFIED:20220803T055914Z
UID:4610-1667035800-1667145600@dodokiro.dk
SUMMARY:Weekendkursus i Håndlæsning af grundlæggende personlighed
DESCRIPTION:Med udgangspunkt i min bog “Hændernes Univers”\, vil vi dykke ned i hændernes de områder der fortæller om vores grundlæggende personlighed\, vores hylster så at sige. Der kræves ingen forkundskaber.I denne Workshop stiller vi ind på de medfødte karaktertræk vi kan aflæse\, det er netop det facon og former på hænderne samt fingrenes og hudens aftryk kan fortælle om.Dette er ikke meget man som menneske kan ændre ved de grundlæggende tegn. Der er elementer af vores personlighed\, vi bare må acceptere\, håndtere og selvfølgelig også glæde os over. Det er det vi skal arbejde med i denne weekend \n\n\n\nDet er vigtigt at du har bogen ” hændernes univers”\, således at du kan arbejde videre med den efter kurset. Den kan købes ved forlaget\, på nettet\, i boghandleren og hos mig samt lånes på biblioteket. Da der er mange niveauer at arbejde på kan du komme om du har ingen\, lidt eller meget viden om håndlæsning og få noget ud af det. \n\n\n\nUndervisningssted \n\n\n\nDof YogaskolenVestervoldgade 4\, 1. i gavlen5800 Nyborg
URL:http://dodokiro.dk/event/weekendkursus-i-haandlaesning-af-grundlaeggende-personlighed/
LOCATION:<!-- wp:paragraph --> <p>Dof Yogaskolen</p> <!-- /wp:paragraph -->  <!-- wp:paragraph --> <p>Vestervoldgade 4\, 1. i gavlen</p> <!-- /wp:paragraph -->  <!-- wp:paragraph --> <p>5800 Nyborg</p> <!-- /wp:paragraph -->
CATEGORIES:Foredrag og workshops,Uddannelse og kurser
END:VEVENT
END:VCALENDAR