BEGIN:VCALENDAR
VERSION:2.0
PRODID:-//Håndlæsning ved Dodo Lindemann - ECPv6.10.2//NONSGML v1.0//EN
CALSCALE:GREGORIAN
METHOD:PUBLISH
X-WR-CALNAME:Håndlæsning ved Dodo Lindemann
X-ORIGINAL-URL:http://dodokiro.dk
X-WR-CALDESC:Begivenheder for Håndlæsning ved Dodo Lindemann
REFRESH-INTERVAL;VALUE=DURATION:PT1H
X-Robots-Tag:noindex
X-PUBLISHED-TTL:PT1H
BEGIN:VTIMEZONE
TZID:Europe/Helsinki
BEGIN:DAYLIGHT
TZOFFSETFROM:+0200
TZOFFSETTO:+0300
TZNAME:EEST
DTSTART:20220327T010000
END:DAYLIGHT
BEGIN:STANDARD
TZOFFSETFROM:+0300
TZOFFSETTO:+0200
TZNAME:EET
DTSTART:20221030T010000
END:STANDARD
END:VTIMEZONE
BEGIN:VEVENT
DTSTART;TZID=Europe/Helsinki:20221104T103000
DTEND;TZID=Europe/Helsinki:20221104T170000
DTSTAMP:20260421T200702
CREATED:20220925T161722Z
LAST-MODIFIED:20220925T161836Z
UID:4644-1667557800-1667581200@dodokiro.dk
SUMMARY:Håndlæsning i Gadstrup
DESCRIPTION:Tidsbestilling skal ske gennem Gitte BrostrømNyvej 3\, 4621 Gadstrup  \n\n\n\npå tlf. ‭22 11 50 49‬
URL:http://dodokiro.dk/event/haandlaesning-i-gadstrup-4/
LOCATION:Nyvej 3 2641 Gadstrup\, United States
END:VEVENT
BEGIN:VEVENT
DTSTART;TZID=Europe/Helsinki:20221105T080000
DTEND;TZID=Europe/Helsinki:20221114T170000
DTSTAMP:20260421T200702
CREATED:20221020T082729Z
LAST-MODIFIED:20221020T082731Z
UID:4654-1667635200-1668445200@dodokiro.dk
SUMMARY:Optaget
DESCRIPTION:
URL:http://dodokiro.dk/event/optaget-181/
END:VEVENT
BEGIN:VEVENT
DTSTART;TZID=Europe/Helsinki:20221115T080000
DTEND;TZID=Europe/Helsinki:20221116T170000
DTSTAMP:20260421T200702
CREATED:20221031T063533Z
LAST-MODIFIED:20221031T063536Z
UID:4664-1668499200-1668618000@dodokiro.dk
SUMMARY:Optaget
DESCRIPTION:
URL:http://dodokiro.dk/event/optaget-185/
END:VEVENT
BEGIN:VEVENT
DTSTART;TZID=Europe/Helsinki:20221117T080000
DTEND;TZID=Europe/Helsinki:20221117T170000
DTSTAMP:20260421T200702
CREATED:20221109T140554Z
LAST-MODIFIED:20221109T140555Z
UID:4667-1668672000-1668704400@dodokiro.dk
SUMMARY:Optaget
DESCRIPTION:
URL:http://dodokiro.dk/event/optaget-186/
END:VEVENT
BEGIN:VEVENT
DTSTART;TZID=Europe/Helsinki:20221118T080000
DTEND;TZID=Europe/Helsinki:20221118T170000
DTSTAMP:20260421T200702
CREATED:20221109T140645Z
LAST-MODIFIED:20221109T140646Z
UID:4669-1668758400-1668790800@dodokiro.dk
SUMMARY:optaget
DESCRIPTION:
URL:http://dodokiro.dk/event/optaget-187/
END:VEVENT
BEGIN:VEVENT
DTSTART;TZID=Europe/Helsinki:20221118T190000
DTEND;TZID=Europe/Helsinki:20221118T210000
DTSTAMP:20260421T200702
CREATED:20220919T161540Z
LAST-MODIFIED:20220919T161833Z
UID:4633-1668798000-1668805200@dodokiro.dk
SUMMARY:Debatforedraget: Er der mere mellem himmel og jord?
DESCRIPTION:Det synes\, som om der er mere mellem himmel og jord\, end det vi kan se med det blotte øje\, høre eller røre ved. Er der noget? Hvis der er\, hvad er så dette noget?   \n\n\n\nMange tror på\, at der er et eller andet og der er mange\, der har forsøgt at forklare og bevise det på den ene eller den anden måde. Der er ligeledes mange vidnesbyrd fra folk\, der har haft såkaldte åndelige oplevelser. Der er endvidere også mange sammenfald. Er det tilfældigt\, eller er der en form for plan eller sammenhæng? Der har gennem tiderne været mange diskussioner mellem forskellige grupperinger og religioner\, men hvorfor nu det\, er det nødvendigt at sætte tingene op imod hinanden? \n\n\n\nDet er store spørgsmål at kaste i luften sådan en fredag aften. Jeg har arbejdet med håndlæsningen i over 30 år og er gennem mit arbejde stødt på hændelser og tegn\, der peger på\, at noget uforklarligt er til stede. Der er noget\, der tyder på en større sammenhæng. \n\n\n\nSom indledning på denne aften vil jeg fortælle hvordan\, det har udviklet sig for mig fra at være håndlæsning i helt almindelig jordnær forstand til stille og roligt også at omfatte det mere æteriske og se større sammenhænge mellem det kropslige\, det mentale og det åndelige. \n\n\n\nI løbet af aftenen vil der gives mulighed for debattere oplægget og der vil være plads til at dele nogle oplevelser\, som måske kan sættes ind i et større perspektiv.
URL:http://dodokiro.dk/event/debatforedraget-er-der-mere-mellem-himmel-og-jord/
LOCATION:DOF Yogaskolen i Nyborg Vestervoldgade 4 5800 Nyborg\, Vester voldgade 4\, Nyborg
CATEGORIES:Foredrag og workshops
END:VEVENT
BEGIN:VEVENT
DTSTART;TZID=Europe/Helsinki:20221119T093000
DTEND;TZID=Europe/Helsinki:20221120T160000
DTSTAMP:20260421T200702
CREATED:20220803T054725Z
LAST-MODIFIED:20220919T162307Z
UID:4614-1668850200-1668960000@dodokiro.dk
SUMMARY:Weekendkursus ”Energien i hænderne - bjerge\, kropssprog\, sår og skrammer"
DESCRIPTION:Dette weekendkursus viser flere forskellige indgange til at læse i hænder og til at forstå hvad hænderne fortæller os. Vi får gennem hænderne oplysninger om vores energiniveau\, vores resurser og almene tilstand.De områder\, der ligger som forhøjninger inde i hånden kaldes bjerge. Bjergenes beskaffenhed kan overordnet set fortælle noget om vores resurser og vores adgang til dem.Energien i hænderne læses endvidere i hudens farve\, struktur og elasticitet.Ved at se på de sår og skrammer vi pådrager os\, kan vi få oplysninger om hvor og på hvilke livsområder vores belastninger er størst. Vi kan på den måde aflæse\, hvad det er vi går og tumler med. Hændernes kropssprog bærer informationer om os på en anden måde\, hvad de fortæller når de lægges på bordet på forskellige måder\, er alt sammen med til at give et overblik over hvilken tilstand personen vi ser på er i og hvilke udfordringer der er eller har været. \n\n\n\nVi kan med andre ord lære at se eller aflæse kroppens\, psykens og den åndenlig tilstand. Ud fra de informationer vi får\, kan vi blive bedre til at vejlede os selv og hinanden. \n\n\n\nAlt dette vil vi arbejde med denne weekend. \n\n\n\nUdgangspunktet er Dodos bog “Hændernes Univers”  \n\n\n\nDer kræves ingen forkundskaber. Alle er velkomne.  \n\n\n\nMedbring gerne en lup\, blyanter (gerne bløde) og evt. tynde tusser
URL:http://dodokiro.dk/event/weekendkursus-energien-i-haenderne-bjerge-kropssprog-saar-og-skrammer/
LOCATION:DOF Yogaskolen i Nyborg Vestervoldgade 4 5800 Nyborg\, Vester voldgade 4\, Nyborg
CATEGORIES:Foredrag og workshops,Uddannelse og kurser
END:VEVENT
BEGIN:VEVENT
DTSTART;TZID=Europe/Helsinki:20221122T080000
DTEND;TZID=Europe/Helsinki:20221123T170000
DTSTAMP:20260421T200702
CREATED:20221115T140702Z
LAST-MODIFIED:20221122T064306Z
UID:4690-1669104000-1669222800@dodokiro.dk
SUMMARY:optaget
DESCRIPTION:
URL:http://dodokiro.dk/event/optaget-190/
END:VEVENT
BEGIN:VEVENT
DTSTART;TZID=Europe/Helsinki:20221124T080000
DTEND;TZID=Europe/Helsinki:20221124T170000
DTSTAMP:20260421T200702
CREATED:20221109T140753Z
LAST-MODIFIED:20221109T140755Z
UID:4671-1669276800-1669309200@dodokiro.dk
SUMMARY:optaget
DESCRIPTION:
URL:http://dodokiro.dk/event/optaget-188/
END:VEVENT
BEGIN:VEVENT
DTSTART;TZID=Europe/Helsinki:20221125T080000
DTEND;TZID=Europe/Helsinki:20221127T170000
DTSTAMP:20260421T200702
CREATED:20221020T083006Z
LAST-MODIFIED:20221020T083008Z
UID:4656-1669363200-1669568400@dodokiro.dk
SUMMARY:optaget
DESCRIPTION:
URL:http://dodokiro.dk/event/optaget-182/
END:VEVENT
END:VCALENDAR