BEGIN:VCALENDAR
VERSION:2.0
PRODID:-//Håndlæsning ved Dodo Lindemann - ECPv6.10.2//NONSGML v1.0//EN
CALSCALE:GREGORIAN
METHOD:PUBLISH
X-ORIGINAL-URL:http://dodokiro.dk
X-WR-CALDESC:Begivenheder for Håndlæsning ved Dodo Lindemann
REFRESH-INTERVAL;VALUE=DURATION:PT1H
X-Robots-Tag:noindex
X-PUBLISHED-TTL:PT1H
BEGIN:VTIMEZONE
TZID:Europe/Helsinki
BEGIN:DAYLIGHT
TZOFFSETFROM:+0200
TZOFFSETTO:+0300
TZNAME:EEST
DTSTART:20250330T010000
END:DAYLIGHT
BEGIN:STANDARD
TZOFFSETFROM:+0300
TZOFFSETTO:+0200
TZNAME:EET
DTSTART:20251026T010000
END:STANDARD
END:VTIMEZONE
BEGIN:VEVENT
DTSTART;TZID=Europe/Helsinki:20250329T080000
DTEND;TZID=Europe/Helsinki:20250401T170000
DTSTAMP:20260420T193628
CREATED:20250318T065848Z
LAST-MODIFIED:20250318T065853Z
UID:5298-1743235200-1743526800@dodokiro.dk
SUMMARY:Optaget
DESCRIPTION:
URL:http://dodokiro.dk/event/optaget-305/
END:VEVENT
BEGIN:VEVENT
DTSTART;TZID=Europe/Helsinki:20250402T080000
DTEND;TZID=Europe/Helsinki:20250406T170000
DTSTAMP:20260420T193628
CREATED:20250208T145652Z
LAST-MODIFIED:20250208T145656Z
UID:5272-1743580800-1743958800@dodokiro.dk
SUMMARY:Optaget
DESCRIPTION:
URL:http://dodokiro.dk/event/optaget-299/
END:VEVENT
BEGIN:VEVENT
DTSTART;TZID=Europe/Helsinki:20250407T080000
DTEND;TZID=Europe/Helsinki:20250408T170000
DTSTAMP:20260420T193628
CREATED:20250325T115125Z
LAST-MODIFIED:20250325T115128Z
UID:5306-1744012800-1744131600@dodokiro.dk
SUMMARY:Optaget
DESCRIPTION:
URL:http://dodokiro.dk/event/optaget-307/
END:VEVENT
BEGIN:VEVENT
DTSTART;TZID=Europe/Helsinki:20250409T080000
DTEND;TZID=Europe/Helsinki:20250416T170000
DTSTAMP:20260420T193628
CREATED:20250120T074615Z
LAST-MODIFIED:20250327T080523Z
UID:5267-1744185600-1744822800@dodokiro.dk
SUMMARY:Optaget
DESCRIPTION:
URL:http://dodokiro.dk/event/optaget-297/
END:VEVENT
BEGIN:VEVENT
DTSTART;TZID=Europe/Helsinki:20250417T080000
DTEND;TZID=Europe/Helsinki:20250421T170000
DTSTAMP:20260420T193628
CREATED:20250208T145855Z
LAST-MODIFIED:20250208T145914Z
UID:5274-1744876800-1745254800@dodokiro.dk
SUMMARY:Optaget
DESCRIPTION:
URL:http://dodokiro.dk/event/5274/
END:VEVENT
BEGIN:VEVENT
DTSTART;TZID=Europe/Helsinki:20250426T080000
DTEND;TZID=Europe/Helsinki:20250427T170000
DTSTAMP:20260420T193628
CREATED:20250316T095553Z
LAST-MODIFIED:20250316T095555Z
UID:5289-1745654400-1745773200@dodokiro.dk
SUMMARY:Optaget
DESCRIPTION:
URL:http://dodokiro.dk/event/optaget-301/
END:VEVENT
END:VCALENDAR