BEGIN:VCALENDAR
VERSION:2.0
PRODID:-//Håndlæsning ved Dodo Lindemann - ECPv6.10.2//NONSGML v1.0//EN
CALSCALE:GREGORIAN
METHOD:PUBLISH
X-ORIGINAL-URL:http://dodokiro.dk
X-WR-CALDESC:Begivenheder for Håndlæsning ved Dodo Lindemann
REFRESH-INTERVAL;VALUE=DURATION:PT1H
X-Robots-Tag:noindex
X-PUBLISHED-TTL:PT1H
BEGIN:VTIMEZONE
TZID:Europe/Helsinki
BEGIN:DAYLIGHT
TZOFFSETFROM:+0200
TZOFFSETTO:+0300
TZNAME:EEST
DTSTART:20250330T010000
END:DAYLIGHT
BEGIN:STANDARD
TZOFFSETFROM:+0300
TZOFFSETTO:+0200
TZNAME:EET
DTSTART:20251026T010000
END:STANDARD
END:VTIMEZONE
BEGIN:VEVENT
DTSTART;TZID=Europe/Helsinki:20250812T080000
DTEND;TZID=Europe/Helsinki:20250904T170000
DTSTAMP:20260421T034110
CREATED:20250807T070348Z
LAST-MODIFIED:20250826T151137Z
UID:5391-1754985600-1757005200@dodokiro.dk
SUMMARY:Optaget
DESCRIPTION:
URL:http://dodokiro.dk/event/optaget-328/
END:VEVENT
BEGIN:VEVENT
DTSTART;TZID=Europe/Helsinki:20250905T080000
DTEND;TZID=Europe/Helsinki:20250907T170000
DTSTAMP:20260421T034110
CREATED:20250826T151458Z
LAST-MODIFIED:20250829T062900Z
UID:5405-1757059200-1757264400@dodokiro.dk
SUMMARY:Optaget
DESCRIPTION:
URL:http://dodokiro.dk/event/optaget-331/
END:VEVENT
BEGIN:VEVENT
DTSTART;TZID=Europe/Helsinki:20250908T080000
DTEND;TZID=Europe/Helsinki:20250910T170000
DTSTAMP:20260421T034110
CREATED:20250908T164453Z
LAST-MODIFIED:20250908T164513Z
UID:5409-1757318400-1757523600@dodokiro.dk
SUMMARY:Optaget
DESCRIPTION:
URL:http://dodokiro.dk/event/optaget-332/
END:VEVENT
BEGIN:VEVENT
DTSTART;TZID=Europe/Helsinki:20250912T080000
DTEND;TZID=Europe/Helsinki:20250917T170000
DTSTAMP:20260421T034110
CREATED:20250807T071931Z
LAST-MODIFIED:20250916T061619Z
UID:5394-1757664000-1758128400@dodokiro.dk
SUMMARY:Optaget
DESCRIPTION:
URL:http://dodokiro.dk/event/optaget-329/
END:VEVENT
BEGIN:VEVENT
DTSTART;TZID=Europe/Helsinki:20250919T080000
DTEND;TZID=Europe/Helsinki:20250921T170000
DTSTAMP:20260421T034110
CREATED:20250815T053422Z
LAST-MODIFIED:20250815T053425Z
UID:5400-1758268800-1758474000@dodokiro.dk
SUMMARY:Optaget
DESCRIPTION:
URL:http://dodokiro.dk/event/optaget-330/
END:VEVENT
BEGIN:VEVENT
DTSTART;TZID=Europe/Helsinki:20250922T080000
DTEND;TZID=Europe/Helsinki:20250928T170000
DTSTAMP:20260421T034110
CREATED:20250711T064921Z
LAST-MODIFIED:20250826T151242Z
UID:5379-1758528000-1759078800@dodokiro.dk
SUMMARY:Håndlæsning i Emdrup
DESCRIPTION:Jeg kommer til Emdrup og giver sessioner i håndlæsning og vejledning. Tidsbestilling gennem facebooksiden Dodo\, den fynske håndlæser eller Hanne Nohr Sommer tlf. 21912295
URL:http://dodokiro.dk/event/haandlaesning-i-emdrup-8/
END:VEVENT
BEGIN:VEVENT
DTSTART;TZID=Europe/Helsinki:20250927T080000
DTEND;TZID=Europe/Helsinki:20251005T170000
DTSTAMP:20260421T034110
CREATED:20250927T111024Z
LAST-MODIFIED:20250927T111035Z
UID:5421-1758960000-1759683600@dodokiro.dk
SUMMARY:Optaget
DESCRIPTION:
URL:http://dodokiro.dk/event/optaget-336/
END:VEVENT
END:VCALENDAR